BEGIN:VCALENDAR
PRODID:-//dvv-bw.de//dvv.Portalplattform//DE
VERSION:2.0
METHOD:PUBLISH
BEGIN:VEVENT
DTSTART:20260424T170000Z
DTEND:20260424T190000Z
DTSTAMP:20260419T195929Z
UID:523252014802-523252014801-1776981600000
SUMMARY:5. Plochinger Orgelnacht
DESCRIPTION:- LICHTBLICKE - Von der Dämmerung zum ewigen Licht\nDie Evangelische Kirchengemeinde\, die Katholische Kirchengemeinde und die Evangelisch-methodistische Kirche laden zur 5. Orgelnacht in Plochingen ein. In der Kirche St. Konrad\, der Stadtkirche St. Blasius und im Gemeindezentrum H29 erklingen abwechslungsreiche Konzerte\, die die ganze Bandbreite der Orgelmusik zeigen.
CLASS:PUBLIC
X-ALT-DESC;FMTTYPE=text/html:- LICHTBLICKE - Von der Dämmerung zum ewigen Licht<br>Die Evangelische Kirchengemeinde\, die Katholische Kirchengemeinde und die Evangelisch-methodistische Kirche laden zur 5. Orgelnacht in Plochingen ein. In der Kirche St. Konrad\, der Stadtkirche St. Blasius und im Gemeindezentrum H29 erklingen abwechslungsreiche Konzerte\, die die ganze Bandbreite der Orgelmusik zeigen.
END:VEVENT
END:VCALENDAR
