BEGIN:VCALENDAR
PRODID:-//dvv-bw.de//dvv.Portalplattform//DE
VERSION:2.0
METHOD:PUBLISH
BEGIN:VEVENT
DTSTART:20260718T110000Z
DTEND:20260718T140000Z
DTSTAMP:20260419T121853Z
UID:523252016902-523252016901-1784325600000
SUMMARY:4. Monatsregatta
LOCATION:Yachtclub Plochingen, Schlierbachwiesen 1, 73207 Plochingen
DESCRIPTION:Vereinsinterne Segel-Regatta am Neckar bei km 200.1 (Plochingen, Schlierbachwiesen 1). Am Start sind unterschiedliche Boote (Jollen, Optis, 420er), die man hautnah erleben kann.
CLASS:PUBLIC
X-ALT-DESC;FMTTYPE=text/html:Vereinsinterne Segel-Regatta am Neckar bei km 200.1 (Plochingen, Schlierbachwiesen 1). Am Start sind unterschiedliche Boote (Jollen, Optis, 420er), die man hautnah erleben kann.
END:VEVENT
END:VCALENDAR
