BEGIN:VCALENDAR
PRODID:-//dvv-bw.de//dvv.Portalplattform//DE
VERSION:2.0
METHOD:PUBLISH
BEGIN:VEVENT
DTSTART:20261221T160000Z
DTEND:20261221T160000Z
DTSTAMP:20260419T115515Z
UID:523252019852-523252019851-1797807600000
SUMMARY:Wintersonnwende
LOCATION:Haugs Schurwaldbesen Lichtenwald, Im Trieb 1, 73669 Lichtenwald
DESCRIPTION:Feuer wird gegen 19 Uhr Uhr angezündet.
CLASS:PUBLIC
X-ALT-DESC;FMTTYPE=text/html:Feuer wird gegen 19 Uhr Uhr angezündet.
END:VEVENT
END:VCALENDAR
