BEGIN:VCALENDAR
PRODID:-//dvv-bw.de//dvv.Portalplattform//DE
VERSION:2.0
METHOD:PUBLISH
BEGIN:VEVENT
DTSTART:20260516T070000Z
DTEND:20260516T100000Z
DTSTAMP:20260419T151616Z
UID:523252015852-523252015851-1778882400000
SUMMARY:Warentauschmarkt & Kinderflohmarkt
LOCATION:Marktplatz
DESCRIPTION:Warenbörse statt Müll - alles ohne Geld! Nicht mehr benötigte\, gut erhaltene Gegenstände können abgegeben werden. Mitgenommen werden kann alles für den persönlichen Gebrauch. Parallel zum Warentauschmarkt können Kinder ihre kleinen Schätze auf dem Marktplatz anbieten\, ob Bücher\, kleines Spielzeug oder Kuscheltiere - hier finden alle Kostbarkeiten ein neues Zuhause.
CLASS:PUBLIC
X-ALT-DESC;FMTTYPE=text/html:Warenbörse statt Müll - alles ohne Geld! Nicht mehr benötigte\, gut erhaltene Gegenstände können abgegeben werden. Mitgenommen werden kann alles für den persönlichen Gebrauch. Parallel zum Warentauschmarkt können Kinder ihre kleinen Schätze auf dem Marktplatz anbieten\, ob Bücher\, kleines Spielzeug oder Kuscheltiere - hier finden alle Kostbarkeiten ein neues Zuhause.
END:VEVENT
END:VCALENDAR
