BEGIN:VCALENDAR
PRODID:-//dvv-bw.de//dvv.Portalplattform//DE
VERSION:2.0
METHOD:PUBLISH
BEGIN:VEVENT
DTSTART:20260425T150000Z
DTEND:20260425T200000Z
DTSTAMP:20260419T120954Z
UID:523254270862-523252014851-1777068000000
SUMMARY:Tanz um den Zunftbaum
LOCATION:Marktplatz
DESCRIPTION:Musik und Tanz für alle am Plochinger Marktplatz
CLASS:PUBLIC
X-ALT-DESC;FMTTYPE=text/html:Musik und Tanz für alle am Plochinger Marktplatz
END:VEVENT
END:VCALENDAR
