BEGIN:VCALENDAR
PRODID:-//dvv-bw.de//dvv.Portalplattform//DE
VERSION:2.0
METHOD:PUBLISH
BEGIN:VEVENT
DTSTART:20261108T093000Z
DTEND:20261108T103000Z
DTSTAMP:20260419T225824Z
UID:523252019102-523252019101-1794092400000
SUMMARY:Taize Gottesdienst St. Johann
LOCATION:Kath. Kirche St. Johann, Sudetenweg 5, 73207 Plochingen
DESCRIPTION:Taize Gottesdienst St. Johann
CLASS:PUBLIC
X-ALT-DESC;FMTTYPE=text/html:Taize Gottesdienst St. Johann
END:VEVENT
END:VCALENDAR
