BEGIN:VCALENDAR
PRODID:-//dvv-bw.de//dvv.Portalplattform//DE
VERSION:2.0
METHOD:PUBLISH
BEGIN:VEVENT
DTSTART:20261122T133000Z
DTEND:20261122T163000Z
DTSTAMP:20260419T151550Z
UID:523252019302-523252019301-1795302000000
SUMMARY:TV Sportschau
LOCATION:Schafhausäckerhalle\, Carl-Orff-Weg 4\, 73207 Plochingen
DESCRIPTION:Der Turnverein präsentiert seine Abteilungen mit Auftritten aller Altersklassen.
CLASS:PUBLIC
X-ALT-DESC;FMTTYPE=text/html:Der Turnverein präsentiert seine Abteilungen mit Auftritten aller Altersklassen.
END:VEVENT
END:VCALENDAR
