BEGIN:VCALENDAR
PRODID:-//dvv-bw.de//dvv.Portalplattform//DE
VERSION:2.0
METHOD:PUBLISH
BEGIN:VEVENT
DTSTART:20260807T160000Z
DTEND:20260809T180000Z
DTSTAMP:20260419T224313Z
RRULE;FREQ=DAILY;UNTIL=20260809T215959Z
UID:523252017402-523252017401-1786053600000
SUMMARY:Stumpenhofer Backfest
LOCATION:Albvereinsturm, Am Aussichtsturm, 73207 Plochingen
DESCRIPTION:Drei Tage Musik\, gutes Essen und beste Stimmung: Von Grill- und Holzofenspezialitäten über Weisswurstfrühstück bis zu Cocktails\, Live-Musik und Kinderprogramm ist für alle etwas dabei!
CLASS:PUBLIC
X-ALT-DESC;FMTTYPE=text/html:Drei Tage Musik\, gutes Essen und beste Stimmung: Von Grill- und Holzofenspezialitäten über Weisswurstfrühstück bis zu Cocktails\, Live-Musik und Kinderprogramm ist für alle etwas dabei!
END:VEVENT
END:VCALENDAR
