BEGIN:VCALENDAR
PRODID:-//dvv-bw.de//dvv.Portalplattform//DE
VERSION:2.0
METHOD:PUBLISH
BEGIN:VEVENT
DTSTART:20260930T160000Z
DTEND:20260930T180000Z
DTSTAMP:20260419T172447Z
UID:523252391552-523252391551-1790719200000
SUMMARY:Stadtjäger Plochingen\, Vortrag
LOCATION:Altes Rathaus, Am Markt 1, 73207 Plochingen
DESCRIPTION:Herr Olaf Goetsch berichtet über Aufgaben und Befugnisse des Stadtjägers in Plochingen.
CLASS:PUBLIC
X-ALT-DESC;FMTTYPE=text/html:Herr Olaf Goetsch berichtet über Aufgaben und Befugnisse des Stadtjägers in Plochingen.
END:VEVENT
END:VCALENDAR
