BEGIN:VCALENDAR
PRODID:-//dvv-bw.de//dvv.Portalplattform//DE
VERSION:2.0
METHOD:PUBLISH
BEGIN:VEVENT
DTSTART:20260824T060000Z
DTEND:20260828T140000Z
DTSTAMP:20260419T162934Z
RRULE;FREQ=DAILY;UNTIL=20260828T215959Z
UID:523252017552-523252017551-1787522400000
SUMMARY:Sportcamp Woche 2
LOCATION:CVJM-Häusle Plochingen\, Carl-Orff-Weg 4\, 73207 Plochingen
DESCRIPTION:Sportcamp des CVJM Plochingen. Bitte Ausschreibung beachten. Es besteht eine Anmeldepflicht.
CLASS:PUBLIC
X-ALT-DESC;FMTTYPE=text/html:Sportcamp des CVJM Plochingen. Bitte Ausschreibung beachten. Es besteht eine Anmeldepflicht.
END:VEVENT
END:VCALENDAR
