BEGIN:VCALENDAR
PRODID:-//dvv-bw.de//dvv.Portalplattform//DE
VERSION:2.0
METHOD:PUBLISH
BEGIN:VEVENT
DTSTART:20261127T160000Z
DTEND:20261129T200000Z
DTSTAMP:20260419T151725Z
RRULE;FREQ=DAILY;UNTIL=20261129T225959Z
UID:523253567652-523252019401-1795734000000
SUMMARY:Plochinger Weihnachtsmarkt
LOCATION:Marktplatz
DESCRIPTION:Wunderschöner stimmungsvoller Weihnachtsmarkt mit Kunsthandwerkermarkt im Alten Rathaus und musikalischem Begleitprogramm.
CLASS:PUBLIC
X-ALT-DESC;FMTTYPE=text/html:Wunderschöner stimmungsvoller Weihnachtsmarkt mit Kunsthandwerkermarkt im Alten Rathaus und musikalischem Begleitprogramm.
END:VEVENT
END:VCALENDAR
