BEGIN:VCALENDAR
PRODID:-//dvv-bw.de//dvv.Portalplattform//DE
VERSION:2.0
METHOD:PUBLISH
BEGIN:VEVENT
DTSTART:20260426T100000Z
DTEND:20260426T150000Z
DTSTAMP:20260419T165248Z
UID:523252014952-523252014951-1777154400000
SUMMARY:Plochinger Frühling
LOCATION:Innenstadt\, Am Markt / Marktstraße / Fischbrunnenplatz
DESCRIPTION:Verkaufsoffener Sonntag mit Frühlingsmarkt auf dem Marktplatz\, Kinderprogramm und vielen Aktionen und Attraktionen in der gesamten Innenstadt.
CLASS:PUBLIC
X-ALT-DESC;FMTTYPE=text/html:Verkaufsoffener Sonntag mit Frühlingsmarkt auf dem Marktplatz\, Kinderprogramm und vielen Aktionen und Attraktionen in der gesamten Innenstadt.
END:VEVENT
END:VCALENDAR
