BEGIN:VCALENDAR
PRODID:-//dvv-bw.de//dvv.Portalplattform//DE
VERSION:2.0
METHOD:PUBLISH
BEGIN:VEVENT
DTSTART:20260419T093000Z
DTEND:20260419T140000Z
DTSTAMP:20260419T093000Z
UID:523254152500-523252014701-1776549600000
SUMMARY:Öko- und Genussmarkt
LOCATION:Marktplatz
DESCRIPTION:Anbieter aus der Region - für die Region. Es erwartet Sie ein vielfältiges Angebot an Lebensmitteln und weiteren Produkten.
CLASS:PUBLIC
X-ALT-DESC;FMTTYPE=text/html:Anbieter aus der Region - für die Region. Es erwartet Sie ein vielfältiges Angebot an Lebensmitteln und weiteren Produkten.
END:VEVENT
END:VCALENDAR
