BEGIN:VCALENDAR
PRODID:-//dvv-bw.de//dvv.Portalplattform//DE
VERSION:2.0
METHOD:PUBLISH
BEGIN:VEVENT
DTSTART:20260621T170000Z
DTEND:20260621T180000Z
DTSTAMP:20260419T200339Z
UID:523252016652-523252016651-1781992800000
SUMMARY:Musik für Orgel und Orchester
LOCATION:Stadtkirche St. Blasius, Kirchberg 9, 73207 Plochingen
DESCRIPTION:Stunde der Kirchenmusik: Musik für Orgel und Orchester\nDenis Pisarevsky\, Orgel\nGedächtnisVielharmonie Stuttgart\nLeitung: Christel Meckelein
CLASS:PUBLIC
X-ALT-DESC;FMTTYPE=text/html:Stunde der Kirchenmusik: Musik für Orgel und Orchester<br>Denis Pisarevsky\, Orgel<br>GedächtnisVielharmonie Stuttgart<br>Leitung: Christel Meckelein
END:VEVENT
END:VCALENDAR
