BEGIN:VCALENDAR
PRODID:-//dvv-bw.de//dvv.Portalplattform//DE
VERSION:2.0
METHOD:PUBLISH
BEGIN:VEVENT
DTSTART:20260710T160000Z
DTEND:20260712T150000Z
DTSTAMP:20260419T122304Z
RRULE;FREQ=DAILY;UNTIL=20260712T215959Z
UID:523253972851-523252016801-1783634400000
SUMMARY:Marquardtfest
LOCATION:Innenstadt\, Am Markt / Marktstraße / Fischbrunnenplatz
DESCRIPTION:Die Plochinger Innenstadt wird zur Festmeile: Der Arbeitskreis Plochinger Vereine lädt zusammen mit der Stadt Plochingen herzlich ein\, gemeinsam zu feiern – unter dem Motto „Rock\, Schwoof & Gaudi“ zu Ehren ihres Gönners Marquardt von Randeck.
CLASS:PUBLIC
X-ALT-DESC;FMTTYPE=text/html:Die Plochinger Innenstadt wird zur Festmeile: Der Arbeitskreis Plochinger Vereine lädt zusammen mit der Stadt Plochingen herzlich ein\, gemeinsam zu feiern &ndash; unter dem Motto &bdquo;Rock\, Schwoof & Gaudi&ldquo; zu Ehren ihres Gönners Marquardt von Randeck.
END:VEVENT
END:VCALENDAR
