BEGIN:VCALENDAR
PRODID:-//dvv-bw.de//dvv.Portalplattform//DE
VERSION:2.0
METHOD:PUBLISH
BEGIN:VEVENT
DTSTART:20261115T180000Z
DTEND:20261115T190000Z
DTSTAMP:20260419T151655Z
UID:523252019202-523252019201-1794697200000
SUMMARY:Konzert des Posaunenchors Plochingen
LOCATION:Stadtkirche St. Blasius, Kirchberg 9, 73207 Plochingen
DESCRIPTION:Jahreskonzert des Posaunenchors des CVJM Plochingen unter der Leitung von Frank Schilling.
CLASS:PUBLIC
X-ALT-DESC;FMTTYPE=text/html:Jahreskonzert des Posaunenchors des CVJM Plochingen unter der Leitung von Frank Schilling.
END:VEVENT
END:VCALENDAR
