BEGIN:VCALENDAR
PRODID:-//dvv-bw.de//dvv.Portalplattform//DE
VERSION:2.0
METHOD:PUBLISH
BEGIN:VEVENT
DTSTART:20261024T170000Z
DTEND:20261024T190000Z
DTSTAMP:20260419T165519Z
UID:523252018602-523252018601-1792792800000
SUMMARY:Konzert des Oratorienverein Plochingen
LOCATION:Stadtkirche St. Blasius, Kirchberg 9, 73207 Plochingen
DESCRIPTION:Abwechslungsreiches Konzert mit dem Oratorienverein unter der Leitung von Heidrun Speck.
CLASS:PUBLIC
X-ALT-DESC;FMTTYPE=text/html:Abwechslungsreiches Konzert mit dem Oratorienverein unter der Leitung von Heidrun Speck.
END:VEVENT
END:VCALENDAR
