BEGIN:VCALENDAR
PRODID:-//dvv-bw.de//dvv.Portalplattform//DE
VERSION:2.0
METHOD:PUBLISH
BEGIN:VEVENT
DTSTART:20260712T170000Z
DTEND:20260712T180000Z
DTSTAMP:20260419T183335Z
UID:523252016852-523252016851-1783807200000
SUMMARY:Konzert Kirchenchor Oroszlány (Ungarn)
LOCATION:Stadtkirche St. Blasius, Kirchberg 9, 73207 Plochingen
DESCRIPTION:Stunde der Kirchenmusik: Konzert Kirchenchor Oroszlány (Ungarn)
CLASS:PUBLIC
X-ALT-DESC;FMTTYPE=text/html:Stunde der Kirchenmusik: Konzert Kirchenchor Oroszlány (Ungarn)
END:VEVENT
END:VCALENDAR
