BEGIN:VCALENDAR
PRODID:-//dvv-bw.de//dvv.Portalplattform//DE
VERSION:2.0
METHOD:PUBLISH
BEGIN:VEVENT
DTSTART:20261119T230000Z
DTEND:20261119T230000Z
DTSTAMP:20260419T230142Z
UID:523252019252-523252019251-1795129200000
SUMMARY:Kabarett mit Schaal-Ahler+Schlwesig
LOCATION:Evangelisches Gemeindehaus\, Hermannstraße 30\, 73207 Plochingen
DESCRIPTION:Kabarett mit Schaal-Ahler+Schlwesig
CLASS:PUBLIC
X-ALT-DESC;FMTTYPE=text/html:Kabarett mit Schaal-Ahler+Schlwesig
END:VEVENT
END:VCALENDAR
