BEGIN:VCALENDAR
PRODID:-//dvv-bw.de//dvv.Portalplattform//DE
VERSION:2.0
METHOD:PUBLISH
BEGIN:VEVENT
DTSTART:20260510T170000Z
DTEND:20260510T190000Z
DTSTAMP:20260419T200310Z
UID:523252015602-523252015601-1778364000000
SUMMARY:Jazz im Kino
LOCATION:Union-Theater Plochingen\, Esslinger Straße 5\, 73207 Plochingen
DESCRIPTION:Die Bigband des Gymnasiums präsentiert seit über 40 Jahren swingend\, groovend und auch rockend die ganze Bandbreite des Bigband-Jazz. Das Union-Theater ist die cineastische Kultstätte Plochingens und ist auch wie geschaffen für einen Jazzabend in großer Besetzung.
CLASS:PUBLIC
X-ALT-DESC;FMTTYPE=text/html:Die Bigband des Gymnasiums präsentiert seit über 40 Jahren swingend\, groovend und auch rockend die ganze Bandbreite des Bigband-Jazz. Das Union-Theater ist die cineastische Kultstätte Plochingens und ist auch wie geschaffen für einen Jazzabend in großer Besetzung.
END:VEVENT
END:VCALENDAR
