BEGIN:VCALENDAR
PRODID:-//dvv-bw.de//dvv.Portalplattform//DE
VERSION:2.0
METHOD:PUBLISH
BEGIN:VEVENT
DTSTART:20261011T160000Z
DTEND:20261011T180000Z
DTSTAMP:20260419T200440Z
UID:523252018152-523252018151-1791669600000
SUMMARY:Herbstkonzert des Kammerorchesters
LOCATION:Stadthalle Plochingen\, Hermannstraße 25\, 73207 Plochingen
DESCRIPTION:Traditionelles Konzert des Kammerorchesters mit klassischer Musik.
CLASS:PUBLIC
X-ALT-DESC;FMTTYPE=text/html:Traditionelles Konzert des Kammerorchesters mit klassischer Musik.
END:VEVENT
END:VCALENDAR
