BEGIN:VCALENDAR
PRODID:-//dvv-bw.de//dvv.Portalplattform//DE
VERSION:2.0
METHOD:PUBLISH
BEGIN:VEVENT
DTSTART:20261017T170000Z
DTEND:20261017T190000Z
DTSTAMP:20260419T231307Z
UID:523252018252-523252018251-1792188000000
SUMMARY:Herbstkonzert der Harmonikafreunde Plochingen
LOCATION:Stadthalle Plochingen\, Hermannstraße 25\, 73207 Plochingen
DESCRIPTION:Stimmungsreiches Jahreskonzert mit einem facettenreichen und fantasievollen Konzertprogramm.
CLASS:PUBLIC
X-ALT-DESC;FMTTYPE=text/html:Stimmungsreiches Jahreskonzert mit einem facettenreichen und fantasievollen Konzertprogramm.
END:VEVENT
END:VCALENDAR
