BEGIN:VCALENDAR
PRODID:-//dvv-bw.de//dvv.Portalplattform//DE
VERSION:2.0
METHOD:PUBLISH
BEGIN:VEVENT
DTSTART:20260919T170000Z
DTEND:20260920T090000Z
DTSTAMP:20260419T134818Z
RRULE;FREQ=DAILY;UNTIL=20260920T215959Z
UID:523252017702-523252017701-1789768800000
SUMMARY:Herbstfest der Freiwilligen Feuerwehr Plochingen
LOCATION:Feuerwehrhaus Plochingen\, Eisenbahnstraße 55\, 73207 Plochingen
DESCRIPTION:Samstag Auftakt mit Barbetrieb\, Sonntag Herbstfest mit Fahrzeugschau\, diversen Vorführungen\, Mitmach- und Spielangeboten für Kinder und Rundfahrten im Feuerwehrfahrzeug.
CLASS:PUBLIC
X-ALT-DESC;FMTTYPE=text/html:Samstag Auftakt mit Barbetrieb\, Sonntag Herbstfest mit Fahrzeugschau\, diversen Vorführungen\, Mitmach- und Spielangeboten für Kinder und Rundfahrten im Feuerwehrfahrzeug.
END:VEVENT
END:VCALENDAR
