BEGIN:VCALENDAR
PRODID:-//dvv-bw.de//dvv.Portalplattform//DE
VERSION:2.0
METHOD:PUBLISH
BEGIN:VEVENT
DTSTART:20261031T230000Z
DTEND:20261031T230000Z
DTSTAMP:20260419T230206Z
UID:523252018902-523252018901-1793487600000
SUMMARY:Gräbersegnungen auf den Friedhöfen
DESCRIPTION:Gräbersegnungen auf den Friedhöfen
CLASS:PUBLIC
X-ALT-DESC;FMTTYPE=text/html:Gräbersegnungen auf den Friedhöfen
END:VEVENT
END:VCALENDAR
