BEGIN:VCALENDAR
PRODID:-//dvv-bw.de//dvv.Portalplattform//DE
VERSION:2.0
METHOD:PUBLISH
BEGIN:VEVENT
DTSTART:20260509T173000Z
DTEND:20260509T190000Z
DTSTAMP:20260419T182322Z
UID:523252015502-523252015501-1778277600000
SUMMARY:Frühjahrskonzert
DESCRIPTION:Der Oratorienverein lädt zu einem stimmungsvollen Konzertabend ein. Unter dem Motto „Traum und Sehnsucht“ erklingen Lieder und Texte\, die von Hoffnung\, Fernweh und innerer Ruhe erzählen – ein musikalischer Auftakt in den Frühling.
CLASS:PUBLIC
X-ALT-DESC;FMTTYPE=text/html:Der Oratorienverein lädt zu einem stimmungsvollen Konzertabend ein. Unter dem Motto &bdquo;Traum und Sehnsucht&ldquo; erklingen Lieder und Texte\, die von Hoffnung\, Fernweh und innerer Ruhe erzählen &ndash; ein musikalischer Auftakt in den Frühling.
END:VEVENT
END:VCALENDAR
