BEGIN:VCALENDAR
PRODID:-//dvv-bw.de//dvv.Portalplattform//DE
VERSION:2.0
METHOD:PUBLISH
BEGIN:VEVENT
DTSTART:20260616T170000Z
DTEND:20260616T190000Z
DTSTAMP:20260419T145507Z
UID:523254566202-523254568200-1781560800000
SUMMARY:Friede – Freude – Scherbenhaufen
LOCATION:Steingießerei\, Hinter Gebäude Esslinger Straße 56\, 73207 Plochingen
DESCRIPTION:Schwäbisches Solokabarett von und mit Eberhard Sorg\, einem der ersten Co-Autoren von "Hannes und der Bürgermeister".\nEintritt: 10\,- €
CLASS:PUBLIC
X-ALT-DESC;FMTTYPE=text/html:Schwäbisches Solokabarett von und mit Eberhard Sorg\, einem der ersten Co-Autoren von "Hannes und der Bürgermeister".<br>Eintritt: 10\,- &euro;
END:VEVENT
END:VCALENDAR
