BEGIN:VCALENDAR
PRODID:-//dvv-bw.de//dvv.Portalplattform//DE
VERSION:2.0
METHOD:PUBLISH
BEGIN:VEVENT
DTSTART:20260810T060000Z
DTEND:20260814T110000Z
DTSTAMP:20260419T145143Z
RRULE;FREQ=DAILY;UNTIL=20260814T215959Z
UID:523252017452-523252017451-1786312800000
SUMMARY:CPFP Ferienprogramm Woche 2
LOCATION:CVJM-Häusle Plochingen\, Carl-Orff-Weg 4\, 73207 Plochingen
DESCRIPTION:Ferienbetreuung des CVJM Plochingen. Bitte Ausschreibung beachten. Es besteht eine Anmeldepflicht.
CLASS:PUBLIC
X-ALT-DESC;FMTTYPE=text/html:Ferienbetreuung des CVJM Plochingen. Bitte Ausschreibung beachten. Es besteht eine Anmeldepflicht.
END:VEVENT
END:VCALENDAR
