BEGIN:VCALENDAR
PRODID:-//dvv-bw.de//dvv.Portalplattform//DE
VERSION:2.0
METHOD:PUBLISH
BEGIN:VEVENT
DTSTART:20260804T060000Z
DTEND:20260807T110000Z
DTSTAMP:20260419T175730Z
RRULE;FREQ=DAILY;UNTIL=20260807T215959Z
UID:523252017352-523252017351-1785794400000
SUMMARY:CPFP Ferienprogramm Woche 1
LOCATION:CVJM-Häusle Plochingen\, Carl-Orff-Weg 4\, 73207 Plochingen
DESCRIPTION:Ferienbetreuung des CVJM Plochingen. Bitte Ausschreibung beachten. Es besteht eine Anmeldepflicht.
CLASS:PUBLIC
X-ALT-DESC;FMTTYPE=text/html:Ferienbetreuung des CVJM Plochingen. Bitte Ausschreibung beachten. Es besteht eine Anmeldepflicht.
END:VEVENT
END:VCALENDAR
