BEGIN:VCALENDAR
PRODID:-//dvv-bw.de//dvv.Portalplattform//DE
VERSION:2.0
METHOD:PUBLISH
BEGIN:VEVENT
DTSTART:20260725T220000Z
DTEND:20260725T220000Z
DTSTAMP:20260419T165020Z
UID:523252017002-523252017001-1785016800000
SUMMARY:Bläsergottesdienst
LOCATION:CVJM-Häusle Plochingen\, Carl-Orff-Weg 4\, 73207 Plochingen
DESCRIPTION:Bläsergottesdienst mit CVJM Gesamtverein vor Beginn der Sommerferien. Eingeladen ist die gesamte Bevölkerung mit anschließenedem Mittagessen und Kinderprogramm
CLASS:PUBLIC
X-ALT-DESC;FMTTYPE=text/html:Bläsergottesdienst mit CVJM Gesamtverein vor Beginn der Sommerferien. Eingeladen ist die gesamte Bevölkerung mit anschließenedem Mittagessen und Kinderprogramm
END:VEVENT
END:VCALENDAR
