BEGIN:VCALENDAR
PRODID:-//dvv-bw.de//dvv.Portalplattform//DE
VERSION:2.0
METHOD:PUBLISH
BEGIN:VEVENT
DTSTART:20260426T160000Z
DTEND:20260426T180000Z
DTSTAMP:20260419T212920Z
UID:523252014902-523252014901-1777154400000
SUMMARY:Benefiz-Kirchenkonzert
LOCATION:Kath. Kirche St. Konrad\, Hindenburgstraße 57\, 73207 Plochingen
DESCRIPTION:Ein festliches Benefizkonzert zugunsten der Renovierung der Katholischen Kirche St. Konrad – ein Abend\, an dem Musik Herzen berührt und Gutes bewirkt.
CLASS:PUBLIC
X-ALT-DESC;FMTTYPE=text/html:Ein festliches Benefizkonzert zugunsten der Renovierung der Katholischen Kirche St. Konrad &ndash; ein Abend\, an dem Musik Herzen berührt und Gutes bewirkt.
END:VEVENT
END:VCALENDAR
