BEGIN:VCALENDAR
PRODID:-//dvv-bw.de//dvv.Portalplattform//DE
VERSION:2.0
METHOD:PUBLISH
BEGIN:VEVENT
DTSTART:20260920T110000Z
DTEND:20260920T170000Z
DTSTAMP:20260419T224143Z
UID:523252017752-523252017751-1789855200000
SUMMARY:Apfelfest
LOCATION:OGV-Vereinsgarten Bruckenwasen, Filsweg 50, 73207 Plochingen
DESCRIPTION:Apfelsaftpressaktion und Apfelsortenausstellung
CLASS:PUBLIC
X-ALT-DESC;FMTTYPE=text/html:Apfelsaftpressaktion und Apfelsortenausstellung
END:VEVENT
END:VCALENDAR
