BEGIN:VCALENDAR
PRODID:-//dvv-bw.de//dvv.Portalplattform//DE
VERSION:2.0
METHOD:PUBLISH
BEGIN:VEVENT
DTSTART:20260613T060000Z
DTEND:20260613T100000Z
DTSTAMP:20260419T115657Z
UID:523252016352-523252016351-1781301600000
SUMMARY:Altpapiersammlung
LOCATION:Stadtgebiet Plochingen
DESCRIPTION:Altpapiersammlung des CVJM Plochingen im gesamten Stadtgebiet. Bitte das Altpapier auf dem Gehweg bereistellen. Bitte aktuelle Meldungen im Amtsblatt oder auf der Homepage www.cvjm-plochingen.de beachten.
CLASS:PUBLIC
X-ALT-DESC;FMTTYPE=text/html:Altpapiersammlung des CVJM Plochingen im gesamten Stadtgebiet. Bitte das Altpapier auf dem Gehweg bereistellen. Bitte aktuelle Meldungen im Amtsblatt oder auf der Homepage www.cvjm-plochingen.de beachten.
END:VEVENT
END:VCALENDAR
