BEGIN:VCALENDAR
PRODID:-//dvv-bw.de//dvv.Portalplattform//DE
VERSION:2.0
METHOD:PUBLISH
BEGIN:VEVENT
DTSTART:20260616T160000Z
DTEND:20260616T180000Z
DTSTAMP:20260419T115714Z
UID:523254216057-523254214659-1781560800000
SUMMARY:Abendspaziergang "Gemeinsam durch das Wildkräuterjahr"
LOCATION:Umweltzentrum Bruckenwasen, Am Bruckenbach 20, 73207 Plochingen
DESCRIPTION:Abendspaziergänge zu den essbarenWilden rund um das Umweltzentrumund auf dem Bruckenwasen
CLASS:PUBLIC
X-ALT-DESC;FMTTYPE=text/html:Abendspaziergänge zu den essbarenWilden rund um das Umweltzentrumund auf dem Bruckenwasen
END:VEVENT
END:VCALENDAR
